BEGIN:VCALENDAR
VERSION:2.0
PRODID:-//Riverside Park Conservancy - ECPv6.15.20//NONSGML v1.0//EN
CALSCALE:GREGORIAN
METHOD:PUBLISH
X-ORIGINAL-URL:https://riversideparknyc.org
X-WR-CALDESC:Events for Riverside Park Conservancy
REFRESH-INTERVAL;VALUE=DURATION:PT1H
X-Robots-Tag:noindex
X-PUBLISHED-TTL:PT1H
BEGIN:VTIMEZONE
TZID:America/New_York
BEGIN:DAYLIGHT
TZOFFSETFROM:-0500
TZOFFSETTO:-0400
TZNAME:EDT
DTSTART:20240310T070000
END:DAYLIGHT
BEGIN:STANDARD
TZOFFSETFROM:-0400
TZOFFSETTO:-0500
TZNAME:EST
DTSTART:20241103T060000
END:STANDARD
BEGIN:DAYLIGHT
TZOFFSETFROM:-0500
TZOFFSETTO:-0400
TZNAME:EDT
DTSTART:20250309T070000
END:DAYLIGHT
BEGIN:STANDARD
TZOFFSETFROM:-0400
TZOFFSETTO:-0500
TZNAME:EST
DTSTART:20251102T060000
END:STANDARD
BEGIN:DAYLIGHT
TZOFFSETFROM:-0500
TZOFFSETTO:-0400
TZNAME:EDT
DTSTART:20260308T070000
END:DAYLIGHT
BEGIN:STANDARD
TZOFFSETFROM:-0400
TZOFFSETTO:-0500
TZNAME:EST
DTSTART:20261101T060000
END:STANDARD
END:VTIMEZONE
BEGIN:VEVENT
DTSTART;TZID=America/New_York:20250329T100000
DTEND;TZID=America/New_York:20250329T123000
DTSTAMP:20260421T154411
CREATED:20250201T015333Z
LAST-MODIFIED:20250303T220409Z
UID:10000475-1743242400-1743251400@riversideparknyc.org
SUMMARY:Community Volunteer Day: Spring Clean up
DESCRIPTION:Join us for a day of outdoor fun and community service at our E
 arly Spring Weeding Event! As the warmer weather approaches\, its the perf
 ect time to roll up our sleeves and help maintain our local green spaces. 
 This event will be a fantastic opportunity to connect with nature\, meet n
 ew people\, and make a positive impact on the environment. \nTo participat
 e in this event\, please register here. \nHere a friendly reminder on what
  to bring to be prepared for volunteering in Riverside: \nWhat to wear/bri
 ng: \n\nFilled water bottle\nSturdy\, closed-toe shoes\nLong pants\nComfor
 table clothing that can get dirty\nSunscreen\nOptional: Hat\n\nWe will pro
 vide gloves for volunteers and any tools/materials needed for the project.
  Please always keep personal items with you\, as we do not have a secure a
 rea for personal belongings. \nFor the safety of our staff and volunteers\
 , if on the day of the project you are sick or not feeling well\, STAY HOM
 E! It is not worth the risk to you or to others.
URL:https://riversideparknyc.org/event/community-volunteer-day-spring-clean
 -up-2/
LOCATION:W 143rd Street & Riverside Drive\, W 143rd Street & Riverside Driv
 e
CATEGORIES:Special Events,Volunteer Events
ATTACH;FMTTYPE=image/jpeg:https://riversideparknyc.org/wp-content/uploads/2
 025/02/IMG_0194-1-1-scaled.jpg
END:VEVENT
BEGIN:VEVENT
DTSTART;TZID=America/New_York:20250329T120000
DTEND;TZID=America/New_York:20250329T133000
DTSTAMP:20260421T154411
CREATED:20250317T144102Z
LAST-MODIFIED:20250317T144103Z
UID:10000878-1743249600-1743255000@riversideparknyc.org
SUMMARY:Riverside Park Pup First Aid Class
DESCRIPTION:In partnership with the Schwarzman Animal Medical Center\, join
  us for an emergency first aid class\, led by Dr. Ann Marie Zollo and Dr. 
 Carly Fox\, Senior Veterinarians in the Emergency & Critical Care Service 
 at AMC. Learn what to include in your dogs first aid kit\, how to check yo
 ur dogs vital signs\, how to handle and transport an injured dog\, and the
  key signs indicating that your dog needs immediate attention at a veterin
 ary ER. \n\n\n\n\n\n\n\n\n\n\n\n\nSign up by clicking here.
URL:https://riversideparknyc.org/event/riverside-park-pup-first-aid-class/
LOCATION:102nd Street Field House\, 102nd Street Field House
CATEGORIES:Education & Workshops
ATTACH;FMTTYPE=image/jpeg:https://riversideparknyc.org/wp-content/uploads/2
 025/02/RiversidePups-scaled.jpg
END:VEVENT
END:VCALENDAR