BEGIN:VCALENDAR
VERSION:2.0
PRODID:-//Riverside Park Conservancy - ECPv6.15.20//NONSGML v1.0//EN
CALSCALE:GREGORIAN
METHOD:PUBLISH
X-WR-CALNAME:Riverside Park Conservancy
X-ORIGINAL-URL:https://riversideparknyc.org
X-WR-CALDESC:Events for Riverside Park Conservancy
REFRESH-INTERVAL;VALUE=DURATION:PT1H
X-Robots-Tag:noindex
X-PUBLISHED-TTL:PT1H
BEGIN:VTIMEZONE
TZID:America/New_York
BEGIN:DAYLIGHT
TZOFFSETFROM:-0500
TZOFFSETTO:-0400
TZNAME:EDT
DTSTART:20250309T070000
END:DAYLIGHT
BEGIN:STANDARD
TZOFFSETFROM:-0400
TZOFFSETTO:-0500
TZNAME:EST
DTSTART:20251102T060000
END:STANDARD
BEGIN:DAYLIGHT
TZOFFSETFROM:-0500
TZOFFSETTO:-0400
TZNAME:EDT
DTSTART:20260308T070000
END:DAYLIGHT
BEGIN:STANDARD
TZOFFSETFROM:-0400
TZOFFSETTO:-0500
TZNAME:EST
DTSTART:20261101T060000
END:STANDARD
BEGIN:DAYLIGHT
TZOFFSETFROM:-0500
TZOFFSETTO:-0400
TZNAME:EDT
DTSTART:20270314T070000
END:DAYLIGHT
BEGIN:STANDARD
TZOFFSETFROM:-0400
TZOFFSETTO:-0500
TZNAME:EST
DTSTART:20271107T060000
END:STANDARD
END:VTIMEZONE
BEGIN:VEVENT
DTSTART;TZID=America/New_York:20260403T090000
DTEND;TZID=America/New_York:20260403T110000
DTSTAMP:20260422T134009
CREATED:20260312T211627Z
LAST-MODIFIED:20260326T191658Z
UID:10002751-1775206800-1775214000@riversideparknyc.org
SUMMARY:PlacePartner Opportunity: South Park at W 68th St
DESCRIPTION:Work together with our gardeners to maintain select areas of So
 uth Park. We will be primarily doing weeding and general horticultural mai
 ntenance. Please meet at the park entrance at 68th Street & Riverside Blvd
 . \nPlacePartner Opportunities are weekly/monthly occasions for volunteers
  to work alongside our field staff and ParkTenders. We will provide all th
 e tools you need! Please bring water to stay hydrated. Please wear weather
 -appropriate clothing and closed-toed shoes. \nFor existing volunteers: Pl
 ease sign up through the Grassroots Volunteer Portal.\nFor new volunteers:
  Please email grassroots@riversideparknyc.org for information about how to
  get involved. \nThis event is not suitable for corporate groups! If you a
 re a corporate group\, please email caroline@riversideparknyc.org to set u
 p a project.
URL:https://riversideparknyc.org/event/volunteer-in-south-park-5/2026-04-03
 /
LOCATION:W 68th Street & Riverside Blvd\, W 68th Street & Riverside Blvd
CATEGORIES:Volunteer Events
ATTACH;FMTTYPE=image/heic:https://riversideparknyc.org/wp-content/uploads/2
 026/03/south-park-scaled.jpg
END:VEVENT
BEGIN:VEVENT
DTSTART;TZID=America/New_York:20260403T110000
DTEND;TZID=America/New_York:20260403T120000
DTSTAMP:20260422T134009
CREATED:20260211T145012Z
LAST-MODIFIED:20260211T184255Z
UID:10002609-1775214000-1775217600@riversideparknyc.org
SUMMARY:Field House Mat Pilates
DESCRIPTION:Join Sweet Water Dance & Yoga for Mat Pilates\, a strengthening
  and lengthening exercise that focuses on conditioning your core muscles w
 hile also training your arms and legs. This class incorporates key Pilates
  principles such as postural alignment\, breathing\, strength\, controlled
  movement and flexibility. This class is perfect for beginners but interme
 diate and advanced movers will also benefit. \nBring your own mat. This ev
 ent takes place in the newly-renovated 102nd Street Field House. Enter the
  Park at 102nd Street and Riverside Drive\, then descend to the promenade 
 level. The stairs to the Field House are across the promenade at 102nd Str
 eet.
URL:https://riversideparknyc.org/event/field-house-mat-pilates-2/2026-04-03
 /
LOCATION:102nd Street Field House\, 102nd Street Field House
CATEGORIES:Health & Wellness,Summer on the Hudson
ATTACH;FMTTYPE=image/jpeg:https://riversideparknyc.org/wp-content/uploads/2
 026/02/20240702_182135-scaled.jpg
ORGANIZER;CN="Summer on the Hudson":MAILTO:soh@riversideparknyc.org
END:VEVENT
END:VCALENDAR