BEGIN:VCALENDAR
VERSION:2.0
PRODID:-//Riverside Park Conservancy - ECPv6.15.20//NONSGML v1.0//EN
CALSCALE:GREGORIAN
METHOD:PUBLISH
X-ORIGINAL-URL:https://riversideparknyc.org
X-WR-CALDESC:Events for Riverside Park Conservancy
REFRESH-INTERVAL;VALUE=DURATION:PT1H
X-Robots-Tag:noindex
X-PUBLISHED-TTL:PT1H
BEGIN:VTIMEZONE
TZID:UTC
BEGIN:STANDARD
TZOFFSETFROM:+0000
TZOFFSETTO:+0000
TZNAME:UTC
DTSTART:20240101T000000
END:STANDARD
END:VTIMEZONE
BEGIN:VEVENT
DTSTART;TZID=UTC:20250806T203000
DTEND;TZID=UTC:20250806T224500
DTSTAMP:20260421T234223
CREATED:20250401T190030Z
LAST-MODIFIED:20250401T190030Z
UID:10001592-1754512200-1754520300@riversideparknyc.org
SUMMARY:Pier I Picture Show - Butch Cassidy & the Sundance Kid (1969)
DESCRIPTION:Pack a picnic\, bring a friend\, and settle in for a night of p
 remier movies on the Pier. Open Captioned. \nTHIS YEARS THEME: DYNAMIC DUO
 S \n\nJuly 9: Bill & Teds Excellent Adventure (1989) | PG | 1h 30m\nJuly 1
 6: Robot Dreams (2023) | PG-13 | 1h 43m\nJuly 23: Dirty Dancing (1987) | P
 G-13 | 1h 40m\nJuly 30: The Grand Budapest Hotel (2014) | R 1h 39m\nAugust
  6: Butch Cassidy & the Sundance Kid (1969) | PG | 1h 50m\nAugust 13: Elem
 ental (2023) | PG | 1h 41m\nAugust 20: Bend it Like Beckham (2002) | PG-13
  | 1h 52m\n\nSummer on the Hudson events are free and open to the public. 
 Seating is limited\, unreserved\, and available on a first-come\, first-se
 rved basis. If there is heavy rain at the time of the event\, the event wi
 ll be canceled. For weather updates\, check nyc.gov/parks/soh 2 hours befo
 re the event.
URL:https://riversideparknyc.org/event/pier-i-picture-show-butch-cassidy-th
 e-sundance-kid-1969/
LOCATION:Pier i\, Pier i at W 70th Street\, NY
CATEGORIES:Special Events,Summer on the Hudson
ATTACH;FMTTYPE=image/jpeg:https://riversideparknyc.org/wp-content/uploads/2
 025/04/download-5.jpg
ORGANIZER;CN="Summer on the Hudson":MAILTO:soh@riversideparknyc.org
END:VEVENT
END:VCALENDAR