BEGIN:VCALENDAR
VERSION:2.0
PRODID:-//Riverside Park Conservancy - ECPv6.15.20//NONSGML v1.0//EN
CALSCALE:GREGORIAN
METHOD:PUBLISH
X-ORIGINAL-URL:https://riversideparknyc.org
X-WR-CALDESC:Events for Riverside Park Conservancy
REFRESH-INTERVAL;VALUE=DURATION:PT1H
X-Robots-Tag:noindex
X-PUBLISHED-TTL:PT1H
BEGIN:VTIMEZONE
TZID:America/New_York
BEGIN:DAYLIGHT
TZOFFSETFROM:-0500
TZOFFSETTO:-0400
TZNAME:EDT
DTSTART:20240310T070000
END:DAYLIGHT
BEGIN:STANDARD
TZOFFSETFROM:-0400
TZOFFSETTO:-0500
TZNAME:EST
DTSTART:20241103T060000
END:STANDARD
BEGIN:DAYLIGHT
TZOFFSETFROM:-0500
TZOFFSETTO:-0400
TZNAME:EDT
DTSTART:20250309T070000
END:DAYLIGHT
BEGIN:STANDARD
TZOFFSETFROM:-0400
TZOFFSETTO:-0500
TZNAME:EST
DTSTART:20251102T060000
END:STANDARD
BEGIN:DAYLIGHT
TZOFFSETFROM:-0500
TZOFFSETTO:-0400
TZNAME:EDT
DTSTART:20260308T070000
END:DAYLIGHT
BEGIN:STANDARD
TZOFFSETFROM:-0400
TZOFFSETTO:-0500
TZNAME:EST
DTSTART:20261101T060000
END:STANDARD
END:VTIMEZONE
BEGIN:VTIMEZONE
TZID:UTC
BEGIN:STANDARD
TZOFFSETFROM:+0000
TZOFFSETTO:+0000
TZNAME:UTC
DTSTART:20240101T000000
END:STANDARD
END:VTIMEZONE
BEGIN:VEVENT
DTSTART;TZID=America/New_York:20250808T183000
DTEND;TZID=America/New_York:20250808T203000
DTSTAMP:20260424T060036
CREATED:20250521T172448Z
LAST-MODIFIED:20250521T172448Z
UID:10002135-1754677800-1754685000@riversideparknyc.org
SUMMARY:Hudson Classical Theater Company presents: The Lady from the Sea
DESCRIPTION:Hudson Classical Theater Company is celebrating their 22nd seas
 on with three exciting shows: Julius Caesar\, Sense and Sensibility\, and 
 The Lady from the Sea. \nAll shows are Thurs-Sun at 6:30pm on the North Pl
 aza of The Soldiers and Sailors Monument at W 89th & Riverside Drive in Ri
 verside Park. \nNo tickets sold in advance. Shows are pay what you can. Fo
 llow Hudson Classical Theater Company on Facebook or Instagram for more in
 fo and updates on rain cancellation.
URL:https://riversideparknyc.org/event/hudson-classical-theater-company-pre
 sents-the-lady-from-the-sea/2025-08-08/
LOCATION:Soldiers and Sailors Monument\, Soldiers' and Sailors' Monument\, 
 NY
CATEGORIES:Special Events,Summer on the Hudson
ATTACH;FMTTYPE=image/png:https://riversideparknyc.org/wp-content/uploads/20
 25/05/Poster-Lady-from-the-Sea.png
ORGANIZER;CN="Summer on the Hudson":MAILTO:soh@riversideparknyc.org
END:VEVENT
BEGIN:VEVENT
DTSTART;TZID=UTC:20250808T190000
DTEND;TZID=UTC:20250808T210000
DTSTAMP:20260424T060036
CREATED:20250331T190323Z
LAST-MODIFIED:20250331T190403Z
UID:10001334-1754679600-1754686800@riversideparknyc.org
SUMMARY:Game Night!
DESCRIPTION:Grab your friends and join us on the Pier for bingo\, quiz show
 s\, and more\, with prizes for winners. \nSummer on the Hudson events are 
 free and open to the public. Seating is limited\, unreserved\, and availab
 le on a first-come\, first-served basis. If there is heavy rain at the tim
 e of the event\, the event will be canceled. For weather updates\, check n
 yc.gov/parks/soh 2 hours before the event.
URL:https://riversideparknyc.org/event/game-night-4/2025-08-08/
LOCATION:Pier i\, Pier i at W 70th Street\, NY
CATEGORIES:Special Events,Summer on the Hudson
ATTACH;FMTTYPE=image/jpeg:https://riversideparknyc.org/wp-content/uploads/2
 025/02/20220708_194945-scaled-1.jpg
ORGANIZER;CN="Summer on the Hudson":MAILTO:soh@riversideparknyc.org
END:VEVENT
END:VCALENDAR