BEGIN:VCALENDAR
VERSION:2.0
PRODID:-//Riverside Park Conservancy - ECPv6.15.20//NONSGML v1.0//EN
CALSCALE:GREGORIAN
METHOD:PUBLISH
X-WR-CALNAME:Riverside Park Conservancy
X-ORIGINAL-URL:https://riversideparknyc.org
X-WR-CALDESC:Events for Riverside Park Conservancy
REFRESH-INTERVAL;VALUE=DURATION:PT1H
X-Robots-Tag:noindex
X-PUBLISHED-TTL:PT1H
BEGIN:VTIMEZONE
TZID:UTC
BEGIN:STANDARD
TZOFFSETFROM:+0000
TZOFFSETTO:+0000
TZNAME:UTC
DTSTART:20240101T000000
END:STANDARD
END:VTIMEZONE
BEGIN:VTIMEZONE
TZID:America/New_York
BEGIN:DAYLIGHT
TZOFFSETFROM:-0500
TZOFFSETTO:-0400
TZNAME:EDT
DTSTART:20240310T070000
END:DAYLIGHT
BEGIN:STANDARD
TZOFFSETFROM:-0400
TZOFFSETTO:-0500
TZNAME:EST
DTSTART:20241103T060000
END:STANDARD
BEGIN:DAYLIGHT
TZOFFSETFROM:-0500
TZOFFSETTO:-0400
TZNAME:EDT
DTSTART:20250309T070000
END:DAYLIGHT
BEGIN:STANDARD
TZOFFSETFROM:-0400
TZOFFSETTO:-0500
TZNAME:EST
DTSTART:20251102T060000
END:STANDARD
BEGIN:DAYLIGHT
TZOFFSETFROM:-0500
TZOFFSETTO:-0400
TZNAME:EDT
DTSTART:20260308T070000
END:DAYLIGHT
BEGIN:STANDARD
TZOFFSETFROM:-0400
TZOFFSETTO:-0500
TZNAME:EST
DTSTART:20261101T060000
END:STANDARD
END:VTIMEZONE
BEGIN:VEVENT
DTSTART;TZID=UTC:20250814T093000
DTEND;TZID=UTC:20250814T103000
DTSTAMP:20260422T005001
CREATED:20250331T203559Z
LAST-MODIFIED:20250331T203559Z
UID:10001486-1755163800-1755167400@riversideparknyc.org
SUMMARY:Tots Soccer
DESCRIPTION:Dynamic coaches from Carlos Oliveira Soccer Academy help childr
 en 5 and under learn soccer skills and develop self-confidence in a fun\, 
 non-competitive environment. \nSummer on the Hudson events are free and op
 en to the public. Seating is limited\, unreserved\, and available on a fir
 st-come\, first-served basis. If there is heavy rain at the time of the ev
 ent\, the event will be canceled. For weather updates\, check nyc.gov/park
 s/soh 2 hours before the event.
URL:https://riversideparknyc.org/event/tots-soccer-3/2025-08-14/
LOCATION:71st Street Soccer Field\, 71st Street Soccer Field
CATEGORIES:Kids & Family,Special Events,Summer on the Hudson
ATTACH;FMTTYPE=image/jpeg:https://riversideparknyc.org/wp-content/uploads/2
 025/02/tots-soccer.jpg
ORGANIZER;CN="Summer on the Hudson":MAILTO:soh@riversideparknyc.org
END:VEVENT
BEGIN:VEVENT
DTSTART;TZID=America/New_York:20250814T183000
DTEND;TZID=America/New_York:20250814T203000
DTSTAMP:20260422T005001
CREATED:20250521T172448Z
LAST-MODIFIED:20250521T172448Z
UID:10002138-1755196200-1755203400@riversideparknyc.org
SUMMARY:Hudson Classical Theater Company presents: The Lady from the Sea
DESCRIPTION:Hudson Classical Theater Company is celebrating their 22nd seas
 on with three exciting shows: Julius Caesar\, Sense and Sensibility\, and 
 The Lady from the Sea. \nAll shows are Thurs-Sun at 6:30pm on the North Pl
 aza of The Soldiers and Sailors Monument at W 89th & Riverside Drive in Ri
 verside Park. \nNo tickets sold in advance. Shows are pay what you can. Fo
 llow Hudson Classical Theater Company on Facebook or Instagram for more in
 fo and updates on rain cancellation.
URL:https://riversideparknyc.org/event/hudson-classical-theater-company-pre
 sents-the-lady-from-the-sea/2025-08-14/
LOCATION:Soldiers and Sailors Monument\, Soldiers' and Sailors' Monument\, 
 NY
CATEGORIES:Special Events,Summer on the Hudson
ATTACH;FMTTYPE=image/png:https://riversideparknyc.org/wp-content/uploads/20
 25/05/Poster-Lady-from-the-Sea.png
ORGANIZER;CN="Summer on the Hudson":MAILTO:soh@riversideparknyc.org
END:VEVENT
BEGIN:VEVENT
DTSTART;TZID=UTC:20250814T200000
DTEND;TZID=UTC:20250814T223000
DTSTAMP:20260422T005001
CREATED:20250401T194319Z
LAST-MODIFIED:20250729T200310Z
UID:10001613-1755201600-1755210600@riversideparknyc.org
SUMMARY:Movies on the Waterfront - Coco (2017)
DESCRIPTION:Pack a picnic\, bring a friend\, and settle in for a night of p
 remier movies in the Park. Open captioned. Seating opens at 6:30pm\, movie
  begins at dusk. \n\nAugust 7 ' The Sun is Also a Star (2019) PG-13 | 1h 4
 0m\nAugust 14 ' Coco (2017) presentado en espaol | PG | 1h 45m\nAugust 21 
 ' Love & Basketball (2000) PG-13 | 2h 4m\nAugust 28 ' Audience Choice! Vot
 e here!\n\nSummer on the Hudson events are free and open to the public. Se
 ating is limited\, unreserved\, and available on a first-come\, first-serv
 ed basis. If there is heavy rain at the time of the event\, the event will
  be canceled. For weather updates\, check nyc.gov/parks/soh 2 hours before
  the event.
URL:https://riversideparknyc.org/event/movies-on-the-waterfront-coco-2017/
LOCATION:W 145th Street Lawn\, New York
CATEGORIES:Kids & Family,Special Events,Summer on the Hudson
ATTACH;FMTTYPE=image/jpeg:https://riversideparknyc.org/wp-content/uploads/2
 025/04/images-4.jpg
ORGANIZER;CN="Summer on the Hudson":MAILTO:soh@riversideparknyc.org
END:VEVENT
END:VCALENDAR