BEGIN:VCALENDAR
VERSION:2.0
PRODID:-//Riverside Park Conservancy - ECPv6.15.20//NONSGML v1.0//EN
CALSCALE:GREGORIAN
METHOD:PUBLISH
X-WR-CALNAME:Riverside Park Conservancy
X-ORIGINAL-URL:https://riversideparknyc.org
X-WR-CALDESC:Events for Riverside Park Conservancy
REFRESH-INTERVAL;VALUE=DURATION:PT1H
X-Robots-Tag:noindex
X-PUBLISHED-TTL:PT1H
BEGIN:VTIMEZONE
TZID:UTC
BEGIN:STANDARD
TZOFFSETFROM:+0000
TZOFFSETTO:+0000
TZNAME:UTC
DTSTART:20240101T000000
END:STANDARD
END:VTIMEZONE
BEGIN:VTIMEZONE
TZID:America/New_York
BEGIN:DAYLIGHT
TZOFFSETFROM:-0500
TZOFFSETTO:-0400
TZNAME:EDT
DTSTART:20240310T070000
END:DAYLIGHT
BEGIN:STANDARD
TZOFFSETFROM:-0400
TZOFFSETTO:-0500
TZNAME:EST
DTSTART:20241103T060000
END:STANDARD
BEGIN:DAYLIGHT
TZOFFSETFROM:-0500
TZOFFSETTO:-0400
TZNAME:EDT
DTSTART:20250309T070000
END:DAYLIGHT
BEGIN:STANDARD
TZOFFSETFROM:-0400
TZOFFSETTO:-0500
TZNAME:EST
DTSTART:20251102T060000
END:STANDARD
BEGIN:DAYLIGHT
TZOFFSETFROM:-0500
TZOFFSETTO:-0400
TZNAME:EDT
DTSTART:20260308T070000
END:DAYLIGHT
BEGIN:STANDARD
TZOFFSETFROM:-0400
TZOFFSETTO:-0500
TZNAME:EST
DTSTART:20261101T060000
END:STANDARD
END:VTIMEZONE
BEGIN:VEVENT
DTSTART;TZID=UTC:20250815T180000
DTEND;TZID=UTC:20250815T190000
DTSTAMP:20260425T072339
CREATED:20250326T154928Z
LAST-MODIFIED:20250331T182147Z
UID:10001006-1755280800-1755284400@riversideparknyc.org
SUMMARY:Harlem Moves with Jose Limn Dance Company
DESCRIPTION:Join the world-renowned Limn Company Dancers as they teach the 
 energetic and ease-filled Limn Technique\, accompanied by live music. \nSu
 mmer on the Hudson events are free and open to the public. Seating is limi
 ted\, unreserved\, and available on a first-come\, first-served basis. If 
 there is heavy rain at the time of the event\, the event will be canceled.
  For weather updates\, check nyc.gov/parks/soh or Instagram @SummerOnTheHu
 dson 2 hours before the event.
URL:https://riversideparknyc.org/event/harlem-moves-with-jose-limon-dance-c
 ompany-3/2025-08-15/
LOCATION:W 125th & Marginal Streets\, W 125th & Marginal Streets
CATEGORIES:Education & Workshops,Health & Wellness,Music & Dance,Summer on 
 the Hudson
ATTACH;FMTTYPE=image/jpeg:https://riversideparknyc.org/wp-content/uploads/2
 025/02/IMG_2451-scaled-1.jpg
ORGANIZER;CN="Summer on the Hudson":MAILTO:soh@riversideparknyc.org
END:VEVENT
BEGIN:VEVENT
DTSTART;TZID=America/New_York:20250815T183000
DTEND;TZID=America/New_York:20250815T203000
DTSTAMP:20260425T072339
CREATED:20250521T172448Z
LAST-MODIFIED:20250521T172448Z
UID:10002139-1755282600-1755289800@riversideparknyc.org
SUMMARY:Hudson Classical Theater Company presents: The Lady from the Sea
DESCRIPTION:Hudson Classical Theater Company is celebrating their 22nd seas
 on with three exciting shows: Julius Caesar\, Sense and Sensibility\, and 
 The Lady from the Sea. \nAll shows are Thurs-Sun at 6:30pm on the North Pl
 aza of The Soldiers and Sailors Monument at W 89th & Riverside Drive in Ri
 verside Park. \nNo tickets sold in advance. Shows are pay what you can. Fo
 llow Hudson Classical Theater Company on Facebook or Instagram for more in
 fo and updates on rain cancellation.
URL:https://riversideparknyc.org/event/hudson-classical-theater-company-pre
 sents-the-lady-from-the-sea/2025-08-15/
LOCATION:Soldiers and Sailors Monument\, Soldiers' and Sailors' Monument\, 
 NY
CATEGORIES:Special Events,Summer on the Hudson
ATTACH;FMTTYPE=image/png:https://riversideparknyc.org/wp-content/uploads/20
 25/05/Poster-Lady-from-the-Sea.png
ORGANIZER;CN="Summer on the Hudson":MAILTO:soh@riversideparknyc.org
END:VEVENT
END:VCALENDAR