BEGIN:VCALENDAR
VERSION:2.0
PRODID:-//Riverside Park Conservancy - ECPv6.15.20//NONSGML v1.0//EN
CALSCALE:GREGORIAN
METHOD:PUBLISH
X-ORIGINAL-URL:https://riversideparknyc.org
X-WR-CALDESC:Events for Riverside Park Conservancy
REFRESH-INTERVAL;VALUE=DURATION:PT1H
X-Robots-Tag:noindex
X-PUBLISHED-TTL:PT1H
BEGIN:VTIMEZONE
TZID:America/New_York
BEGIN:DAYLIGHT
TZOFFSETFROM:-0500
TZOFFSETTO:-0400
TZNAME:EDT
DTSTART:20240310T070000
END:DAYLIGHT
BEGIN:STANDARD
TZOFFSETFROM:-0400
TZOFFSETTO:-0500
TZNAME:EST
DTSTART:20241103T060000
END:STANDARD
BEGIN:DAYLIGHT
TZOFFSETFROM:-0500
TZOFFSETTO:-0400
TZNAME:EDT
DTSTART:20250309T070000
END:DAYLIGHT
BEGIN:STANDARD
TZOFFSETFROM:-0400
TZOFFSETTO:-0500
TZNAME:EST
DTSTART:20251102T060000
END:STANDARD
BEGIN:DAYLIGHT
TZOFFSETFROM:-0500
TZOFFSETTO:-0400
TZNAME:EDT
DTSTART:20260308T070000
END:DAYLIGHT
BEGIN:STANDARD
TZOFFSETFROM:-0400
TZOFFSETTO:-0500
TZNAME:EST
DTSTART:20261101T060000
END:STANDARD
END:VTIMEZONE
BEGIN:VEVENT
DTSTART;TZID=America/New_York:20250823T093000
DTEND;TZID=America/New_York:20250823T103000
DTSTAMP:20260422T070825
CREATED:20250421T155231Z
LAST-MODIFIED:20251006T213014Z
UID:10001935-1755941400-1755945000@riversideparknyc.org
SUMMARY:Strength & Cardio Fun!
DESCRIPTION:Join Shape Up NYC for this beginner friendly class that will fo
 cus on improving your strength and endurance by challenging your muscles a
 nd increasing the heart rate. Using foundational exercises\, Strength and 
 Cardio Fun will transform you into a stronger confident you. Please bring 
 a mat. No class 8/30 or 9/6.
URL:https://riversideparknyc.org/event/strength-cardio-fun/2025-08-23/
LOCATION:W 145th Street Lawn\, New York
CATEGORIES:Health & Wellness,Summer on the Hudson
END:VEVENT
BEGIN:VEVENT
DTSTART;TZID=America/New_York:20250823T100000
DTEND;TZID=America/New_York:20250823T140000
DTSTAMP:20260422T070825
CREATED:20250326T155516Z
LAST-MODIFIED:20250331T202102Z
UID:10001357-1755943200-1755957600@riversideparknyc.org
SUMMARY:Locomotive Open House
DESCRIPTION:Visit the renovated locomotive in Riverside Park South and lear
 n about the rail yard history of Manhattans West Side. \nSummer on the Hud
 son events are free and open to the public. Seating is limited\, unreserve
 d\, and available on a first-come\, first-served basis. If there is heavy 
 rain at the time of the event\, the event will be canceled. For weather up
 dates\, check nyc.gov/parks/soh 2 hours before the event.
URL:https://riversideparknyc.org/event/locomotive-open-house/2025-08-23/
LOCATION:Locomotive Lawn\, Locomotive Lawn
CATEGORIES:Special Events,Summer on the Hudson
ATTACH;FMTTYPE=image/jpeg:https://riversideparknyc.org/wp-content/uploads/2
 025/03/M_Locomotive-at-Riverside-Park-South_Riverside-Park-Conservancy-1-2
 048x1152-1.jpg
END:VEVENT
BEGIN:VEVENT
DTSTART;TZID=America/New_York:20250823T110000
DTEND;TZID=America/New_York:20250823T120000
DTSTAMP:20260422T070825
CREATED:20250331T183520Z
LAST-MODIFIED:20250331T183520Z
UID:10001408-1755946800-1755950400@riversideparknyc.org
SUMMARY:Shape Up NYC Dance Fitness
DESCRIPTION:Shape Up NYC (a NYC Parks program) is a free group fitness prog
 ram for New Yorkers of all ages. Colorful outfits encouraged at this creat
 ive workout that fuses dance and aerobics. \nSummer on the Hudson events a
 re free and open to the public. Seating is limited\, unreserved\, and avai
 lable on a first-come\, first-served basis. If there is heavy rain at the 
 time of the event\, the event will be canceled. For weather updates\, chec
 k nyc.gov/parks/soh 2 hours before the event.
URL:https://riversideparknyc.org/event/shape-up-nyc-dance-fitness-2/2025-08
 -23/
LOCATION:W 125th & Marginal Streets\, W 125th & Marginal Streets
CATEGORIES:Health & Wellness,Summer on the Hudson
ATTACH;FMTTYPE=image/jpeg:https://riversideparknyc.org/wp-content/uploads/2
 025/03/5a9da1a01125a.jpg
END:VEVENT
BEGIN:VEVENT
DTSTART;TZID=America/New_York:20250823T180000
DTEND;TZID=America/New_York:20250823T210000
DTSTAMP:20260422T070825
CREATED:20250401T193252Z
LAST-MODIFIED:20250605T183113Z
UID:10001612-1755972000-1755982800@riversideparknyc.org
SUMMARY:Vinyl Nights
DESCRIPTION:Vinyl Nights presents a vibrant\, inclusive dance party and cel
 ebration of Everything New York. \nDance to the hits that shaped NYC & exp
 erience what it was like to party in the 70s-90s when the DJs played stric
 tly vinyl. \nDance to Disco\, Funk\, Soul\, House\, Boogie\, Latin\, Frees
 tyle & 80s & 90s Hip Hop. \nPresented by Rebecca Lynn \nJuly 26 featuring 
 DJs Operator Emz & DJ Misbehaviour  \nSummer on the Hudson events are free
  and open to the public. Seating is limited\, unreserved\, and available o
 n a first-come\, first-served basis. If there is heavy rain at the time of
  the event\, the event will be canceled. For weather updates\, check nyc.g
 ov/parks/soh 2 hours before the event.
URL:https://riversideparknyc.org/event/vinyl-nights/2025-08-23/
LOCATION:Pier i\, Pier i at W 70th Street\, NY
CATEGORIES:Music & Dance,Summer on the Hudson
ORGANIZER;CN="Summer on the Hudson":MAILTO:soh@riversideparknyc.org
END:VEVENT
END:VCALENDAR