BEGIN:VCALENDAR
VERSION:2.0
PRODID:-//Riverside Park Conservancy - ECPv6.15.20//NONSGML v1.0//EN
CALSCALE:GREGORIAN
METHOD:PUBLISH
X-ORIGINAL-URL:https://riversideparknyc.org
X-WR-CALDESC:Events for Riverside Park Conservancy
REFRESH-INTERVAL;VALUE=DURATION:PT1H
X-Robots-Tag:noindex
X-PUBLISHED-TTL:PT1H
BEGIN:VTIMEZONE
TZID:America/New_York
BEGIN:DAYLIGHT
TZOFFSETFROM:-0500
TZOFFSETTO:-0400
TZNAME:EDT
DTSTART:20240310T070000
END:DAYLIGHT
BEGIN:STANDARD
TZOFFSETFROM:-0400
TZOFFSETTO:-0500
TZNAME:EST
DTSTART:20241103T060000
END:STANDARD
BEGIN:DAYLIGHT
TZOFFSETFROM:-0500
TZOFFSETTO:-0400
TZNAME:EDT
DTSTART:20250309T070000
END:DAYLIGHT
BEGIN:STANDARD
TZOFFSETFROM:-0400
TZOFFSETTO:-0500
TZNAME:EST
DTSTART:20251102T060000
END:STANDARD
BEGIN:DAYLIGHT
TZOFFSETFROM:-0500
TZOFFSETTO:-0400
TZNAME:EDT
DTSTART:20260308T070000
END:DAYLIGHT
BEGIN:STANDARD
TZOFFSETFROM:-0400
TZOFFSETTO:-0500
TZNAME:EST
DTSTART:20261101T060000
END:STANDARD
END:VTIMEZONE
BEGIN:VEVENT
DTSTART;TZID=America/New_York:20251206T163000
DTEND;TZID=America/New_York:20251206T180000
DTSTAMP:20260421T104625
CREATED:20250402T145824Z
LAST-MODIFIED:20251204T150420Z
UID:10001651-1765038600-1765044000@riversideparknyc.org
SUMMARY:Holiday on the Hudson
DESCRIPTION:Celebrate the season with a holiday tree lighting\, live music\
 , decoration making\, and hot chocolate (while supplies last). Tree lighti
 ng at 5:30pm\, rain date Sunday\, December 7.  \nSummer on the Hudson even
 ts are free and open to the public. Seating is limited\, unreserved\, and 
 available on a first-come\, first-served basis. If there is heavy rain at 
 the time of the event\, the event will be canceled. For weather updates\, 
 check nyc.gov/parks/soh 2 hours before the event.
URL:https://riversideparknyc.org/event/holiday-on-the-hudson-3/
LOCATION:W 125th & Marginal Streets\, W 125th & Marginal Streets
CATEGORIES:Special Events,Summer on the Hudson
ATTACH;FMTTYPE=image/jpeg:https://riversideparknyc.org/wp-content/uploads/2
 025/02/6543c545b9d79.jpg
END:VEVENT
END:VCALENDAR