BEGIN:VCALENDAR
VERSION:2.0
PRODID:-//Riverside Park Conservancy - ECPv6.15.20//NONSGML v1.0//EN
CALSCALE:GREGORIAN
METHOD:PUBLISH
X-ORIGINAL-URL:https://riversideparknyc.org
X-WR-CALDESC:Events for Riverside Park Conservancy
REFRESH-INTERVAL;VALUE=DURATION:PT1H
X-Robots-Tag:noindex
X-PUBLISHED-TTL:PT1H
BEGIN:VTIMEZONE
TZID:America/New_York
BEGIN:DAYLIGHT
TZOFFSETFROM:-0500
TZOFFSETTO:-0400
TZNAME:EDT
DTSTART:20240310T070000
END:DAYLIGHT
BEGIN:STANDARD
TZOFFSETFROM:-0400
TZOFFSETTO:-0500
TZNAME:EST
DTSTART:20241103T060000
END:STANDARD
BEGIN:DAYLIGHT
TZOFFSETFROM:-0500
TZOFFSETTO:-0400
TZNAME:EDT
DTSTART:20250309T070000
END:DAYLIGHT
BEGIN:STANDARD
TZOFFSETFROM:-0400
TZOFFSETTO:-0500
TZNAME:EST
DTSTART:20251102T060000
END:STANDARD
BEGIN:DAYLIGHT
TZOFFSETFROM:-0500
TZOFFSETTO:-0400
TZNAME:EDT
DTSTART:20260308T070000
END:DAYLIGHT
BEGIN:STANDARD
TZOFFSETFROM:-0400
TZOFFSETTO:-0500
TZNAME:EST
DTSTART:20261101T060000
END:STANDARD
END:VTIMEZONE
BEGIN:VEVENT
DTSTART;TZID=America/New_York:20250910T090000
DTEND;TZID=America/New_York:20250910T110000
DTSTAMP:20260425T071818
CREATED:20250411T195438Z
LAST-MODIFIED:20250521T185547Z
UID:10001678-1757494800-1757502000@riversideparknyc.org
SUMMARY:Volunteer in the Sweet Spot!
DESCRIPTION:Volunteer in the sweet spot of Riverside Park between 72nd and 
 96th Streets! \nThis historic section of the park is home to majestic monu
 ments\, beautiful native plant gardens\, hidden forests\, and lovely river
  views. Well be working across this part of the park in various gardens an
 d woodland areas doing weeding\, mulching\, pruning\, and ecological resto
 ration. \nMeeting location will rotate between Hippo Playground and River 
 Run Playground. \nFor existing volunteers: Please sign up through the Gras
 sroots Volunteer Portal.\nFor new volunteers: Please email grassroots@rive
 rsideparknyc.org for information about how to get involved. \nThis project
  is not suitable for corporate groups! If you are a corporate group\, plea
 se email caroline@riversideparknyc.org to set up a project.
URL:https://riversideparknyc.org/event/volunteer-sweet-spot/2025-09-10/
CATEGORIES:Volunteer Events
ATTACH;FMTTYPE=image/jpeg:https://riversideparknyc.org/wp-content/uploads/2
 025/04/sec-1-ppo-e1744401267122.jpg
END:VEVENT
BEGIN:VEVENT
DTSTART;TZID=America/New_York:20250910T090000
DTEND;TZID=America/New_York:20250910T113000
DTSTAMP:20260425T071818
CREATED:20250430T151302Z
LAST-MODIFIED:20250430T151609Z
UID:10001997-1757494800-1757503800@riversideparknyc.org
SUMMARY:Gardening Club in Fort Washington Park with Latino Outdoors NYC
DESCRIPTION:Latino Outdoors is a Latine-led organization that supports a na
 tional community of leaders in outdoor recreation\, conservation and envir
 onmental education. With an eye towards celebrating and expanding the Lati
 ne outdoor experience and bolstering the broader outdoor movement\, we pro
 vide leadership\, mentorship\, and professional development opportunities 
 and serve as a platform for amplifying oft-overlooked cultural connections
  and narratives. Latino Outdoors is a space for our comunidades to be pres
 ent\, share our voices\, and showcase how an ethic of conservation and roo
 ts in nature have been deeply embedded in la cultura Latina for generation
 s. The programmatic pillars of Latino Outdoors are: outdoor experiences\, 
 outdoor narratives\, and outdoor leadership. \nJoin Riverside Park Gardene
 r & Latino Outdoors Volunteer Leader\, Stephanie Caban\, the second Wednes
 day of every month to garden in Fort Washington Park! \nRiverside Park ste
 wards 6 miles of land along the west side of Manhattan\, including the sou
 thern portion of this incredible park. Enjoy views of the Hudson and help 
 us transform a garden area that currently needs a lot of love. \nParticipa
 te in communal giving to the land as we remove stubborn brush and work tow
 ards creating a new landscape together. This work will be laborious'well s
 pend a few sessions removing introduced species with loppers and shovels\,
  before mulching down the area to prepare for fall planting. We will be on
  our feet during most of the event. \nAll participants must be 18 years ol
 d or older\, and beginners are welcome! Come in comfortable clothing you d
 ont mind getting dirty and be prepared to sweat\, and all the gear needed 
 will be provided! \nRegistration is required and free! Duplicate reservati
 ons and incomplete surveys will be returned automatically. This event is s
 uitable for people 18 years and older.
URL:https://riversideparknyc.org/event/gardening-club-in-fort-washington-pa
 rk-with-latino-outdoors-nyc/2025-09-10/
LOCATION:Discovery Playground\, Discovery Playground
CATEGORIES:Volunteer Events
ATTACH;FMTTYPE=image/png:https://riversideparknyc.org/wp-content/uploads/20
 25/04/LO-NYC-Gardening-Club.png
ORGANIZER;CN="Latino Outdoors NYC":MAILTO:stephaniecaban@latinooutdoors.org
END:VEVENT
END:VCALENDAR