BEGIN:VCALENDAR
VERSION:2.0
PRODID:-//Riverside Park Conservancy - ECPv6.15.20//NONSGML v1.0//EN
CALSCALE:GREGORIAN
METHOD:PUBLISH
X-ORIGINAL-URL:https://riversideparknyc.org
X-WR-CALDESC:Events for Riverside Park Conservancy
REFRESH-INTERVAL;VALUE=DURATION:PT1H
X-Robots-Tag:noindex
X-PUBLISHED-TTL:PT1H
BEGIN:VTIMEZONE
TZID:UTC
BEGIN:STANDARD
TZOFFSETFROM:+0000
TZOFFSETTO:+0000
TZNAME:UTC
DTSTART:20250101T000000
END:STANDARD
END:VTIMEZONE
BEGIN:VEVENT
DTSTART;TZID=UTC:20260522T190000
DTEND;TZID=UTC:20260522T203000
DTSTAMP:20260424T201413
CREATED:20260414T193718Z
LAST-MODIFIED:20260414T193718Z
UID:10003264-1779476400-1779481800@riversideparknyc.org
SUMMARY:Jazz Foundation Presents: Sunset Sounds
DESCRIPTION:The Jazz Foundation of America presents a spirited sunset conce
 rt featuring renowned bandleaders playing a variety of jazz and Latin styl
 es. \nSummer on the Hudson events are free and open to the public. Seating
  is limited\, unreserved\, and available on a first-come\, first-served ba
 sis. If there is heavy rain at the time of the event\, the event will be c
 anceled. For weather updates\, check nyc.gov/parks/soh 2 hours before the 
 event.
URL:https://riversideparknyc.org/event/jazz-foundation-presents-sunset-soun
 ds-5/2026-05-22/
LOCATION:Pier at W 125th & Marginal Streets\, Pier at W 125th & Marginal St
 reets
CATEGORIES:Special Events,Music & Dance,Summer on the Hudson
ATTACH;FMTTYPE=image/jpeg:https://riversideparknyc.org/wp-content/uploads/2
 025/02/20220708_190407-scaled-1.jpg
ORGANIZER;CN="Summer on the Hudson":MAILTO:soh@riversideparknyc.org
END:VEVENT
END:VCALENDAR