BEGIN:VCALENDAR
VERSION:2.0
PRODID:-//Riverside Park Conservancy - ECPv6.15.20//NONSGML v1.0//EN
CALSCALE:GREGORIAN
METHOD:PUBLISH
X-ORIGINAL-URL:https://riversideparknyc.org
X-WR-CALDESC:Events for Riverside Park Conservancy
REFRESH-INTERVAL;VALUE=DURATION:PT1H
X-Robots-Tag:noindex
X-PUBLISHED-TTL:PT1H
BEGIN:VTIMEZONE
TZID:UTC
BEGIN:STANDARD
TZOFFSETFROM:+0000
TZOFFSETTO:+0000
TZNAME:UTC
DTSTART:20250101T000000
END:STANDARD
END:VTIMEZONE
BEGIN:VEVENT
DTSTART;TZID=UTC:20260413T120000
DTEND;TZID=UTC:20260413T130000
DTSTAMP:20260422T091404
CREATED:20260410T143127Z
LAST-MODIFIED:20260410T143127Z
UID:10003669-1776081600-1776085200@riversideparknyc.org
SUMMARY:Riverside Park Horticulture Tour
DESCRIPTION:Join Riverside Parks Director of Horticulture to see whats in b
 loom\, discuss special topics in urban horticulture\, and ask questions ab
 out the plants you see in Riverside. \nSummer on the Hudson events are fre
 e and open to the public. Seating is limited\, unreserved\, and available 
 on a first-come\, first-served basis. If there is heavy rain at the time o
 f the event\, the event will be canceled. For weather updates\, check nyc.
 gov/parks/soh 2 hours before the event.
URL:https://riversideparknyc.org/event/riverside-park-horticulture-tour-3/
LOCATION:Hippo Playground\, Hippo Playground
CATEGORIES:Education & Workshops,Kids & Family
ATTACH;FMTTYPE=image/jpeg:https://riversideparknyc.org/wp-content/uploads/2
 025/02/6244b27739ca6.jpeg
ORGANIZER;CN="Summer on the Hudson":MAILTO:soh@riversideparknyc.org
END:VEVENT
END:VCALENDAR