BEGIN:VCALENDAR
VERSION:2.0
PRODID:-//Riverside Park Conservancy - ECPv6.15.20//NONSGML v1.0//EN
CALSCALE:GREGORIAN
METHOD:PUBLISH
X-ORIGINAL-URL:https://riversideparknyc.org
X-WR-CALDESC:Events for Riverside Park Conservancy
REFRESH-INTERVAL;VALUE=DURATION:PT1H
X-Robots-Tag:noindex
X-PUBLISHED-TTL:PT1H
BEGIN:VTIMEZONE
TZID:UTC
BEGIN:STANDARD
TZOFFSETFROM:+0000
TZOFFSETTO:+0000
TZNAME:UTC
DTSTART:20220101T000000
END:STANDARD
END:VTIMEZONE
BEGIN:VEVENT
DTSTART;TZID=UTC:20230630T190000
DTEND;TZID=UTC:20230630T200000
DTSTAMP:20260424T122159
CREATED:20230405T184431Z
LAST-MODIFIED:20230405T184431Z
UID:10000184-1688151600-1688155200@riversideparknyc.org
SUMMARY:Friday Freshen Up Musical Hour
DESCRIPTION:Get out to the park and kick off the weekend with some local so
 unds at this monthly musical get-happy hour. \nJune 30: Troy Weekes \nHail
 ing from Harlem\, Troy Weekes is a singer/songwriter\, actor\, dancer\, an
 d MC\, and performing since the age of 14. When not working on his own pro
 ject\, he can be seen performing with his band Ji- Groove and hosting even
 ts all across America. He is currently working on his first EP project\, N
 ot yet titled\, under the new genre and style he created called *Soul & B.
  Blending gospel\, neo-soul\, and R&B\, Troy Weekes has a story to tell an
 d he pulls you right in with him each and every time he performs. \nSummer
  on the Hudson events are free and open to the public. Seating is limited\
 , unreserved\, and available on a first-come\, first-served basis. If ther
 e is heavy rain at the time of the event\, the event will be canceled. For
  weather updates\, check nyc.gov/parks/soh 2 hours before the event. \n 
URL:https://riversideparknyc.org/event/friday-freshen-up-feat-troy-weekes/
LOCATION:W 125th & Marginal Streets\, W 125th & Marginal Streets
CATEGORIES:Music & Dance,Summer on the Hudson
ATTACH;FMTTYPE=image/jpeg:https://riversideparknyc.org/wp-content/uploads/2
 025/02/Troy-Weekes.jpg
ORGANIZER;CN="Summer on the Hudson":MAILTO:soh@riversideparknyc.org
END:VEVENT
END:VCALENDAR