BEGIN:VCALENDAR
VERSION:2.0
PRODID:-//Riverside Park Conservancy - ECPv6.15.20//NONSGML v1.0//EN
CALSCALE:GREGORIAN
METHOD:PUBLISH
X-WR-CALNAME:Riverside Park Conservancy
X-ORIGINAL-URL:https://riversideparknyc.org
X-WR-CALDESC:Events for Riverside Park Conservancy
REFRESH-INTERVAL;VALUE=DURATION:PT1H
X-Robots-Tag:noindex
X-PUBLISHED-TTL:PT1H
BEGIN:VTIMEZONE
TZID:UTC
BEGIN:STANDARD
TZOFFSETFROM:+0000
TZOFFSETTO:+0000
TZNAME:UTC
DTSTART:20220101T000000
END:STANDARD
END:VTIMEZONE
BEGIN:VEVENT
DTSTART;TZID=UTC:20230716T190000
DTEND;TZID=UTC:20230716T210000
DTSTAMP:20260420T125444
CREATED:20230405T183024Z
LAST-MODIFIED:20230405T183024Z
UID:10000180-1689534000-1689541200@riversideparknyc.org
SUMMARY:Amplified Sundays feat. Danaya Band
DESCRIPTION:Enjoy vibrantly-danceable live music accompanied by spectacular
  sunsets over the Hudson River! Amplified Sundays take place each Sunday i
 n July. \nJuly 16: Danaya Band \nAboubacar Dembele\, bass player/percussio
 nist son of renowned Malian musician Bamba Dembele\, traveled to the Unite
 d States in 2000 to record music and made his home in New York City.  Dana
 ya Band was founded by Aboubacar in 2017; its body of music is steeped in 
 the energy and rhythms of Malian\, Bambara\, Mandingo\, Afrobeat\, Reggae 
 music and more. \nSummer on the Hudson events are free and open to the pub
 lic. Seating is limited\, unreserved\, and available on a first-come\, fir
 st-served basis. If there is heavy rain at the time of the event\, the eve
 nt will be canceled. For weather updates\, check nyc.gov/parks/soh 2 hours
  before the event. \n  \n 
URL:https://riversideparknyc.org/event/amplified-sundays-feat-danaya-band/
LOCATION:Pier i\, Pier i at W 70th Street\, NY
CATEGORIES:Music & Dance,Summer on the Hudson
ATTACH;FMTTYPE=image/jpeg:https://riversideparknyc.org/wp-content/uploads/2
 025/02/Danaya-Band.jpg
ORGANIZER;CN="Summer on the Hudson":MAILTO:soh@riversideparknyc.org
END:VEVENT
END:VCALENDAR