BEGIN:VCALENDAR
VERSION:2.0
PRODID:-//Riverside Park Conservancy - ECPv6.15.20//NONSGML v1.0//EN
CALSCALE:GREGORIAN
METHOD:PUBLISH
X-WR-CALNAME:Riverside Park Conservancy
X-ORIGINAL-URL:https://riversideparknyc.org
X-WR-CALDESC:Events for Riverside Park Conservancy
REFRESH-INTERVAL;VALUE=DURATION:PT1H
X-Robots-Tag:noindex
X-PUBLISHED-TTL:PT1H
BEGIN:VTIMEZONE
TZID:UTC
BEGIN:STANDARD
TZOFFSETFROM:+0000
TZOFFSETTO:+0000
TZNAME:UTC
DTSTART:20220101T000000
END:STANDARD
END:VTIMEZONE
BEGIN:VEVENT
DTSTART;TZID=UTC:20230721T203000
DTEND;TZID=UTC:20230721T220000
DTSTAMP:20260424T044924
CREATED:20230407T222728Z
LAST-MODIFIED:20230407T222728Z
UID:10000215-1689971400-1689976800@riversideparknyc.org
SUMMARY:Films on the Green
DESCRIPTION:Experience the magic of French cinema under the stars in New Yo
 rk Citys most beautiful parks! The 15th edition of Films on the Green cele
 brates Dance in Film. https://villa-albertine.org/. Rain Dates July 22 & 2
 9. \nSummer on the Hudson events are free and open to the public. Seating 
 is limited\, unreserved\, and available on a first-come\, first-served bas
 is. If there is heavy rain at the time of the event\, the event will be ca
 nceled. For weather updates\, check nyc.gov/parks/soh 2 hours before the e
 vent.
URL:https://riversideparknyc.org/event/films-on-the-green/2023-07-21/
LOCATION:Pier i\, Pier i at W 70th Street\, NY
CATEGORIES:Special Events,Summer on the Hudson
ATTACH;FMTTYPE=image/jpeg:https://riversideparknyc.org/wp-content/uploads/2
 025/02/294488392_5318409384878982_6734947097765132353_n-1.jpg
ORGANIZER;CN="Summer on the Hudson":MAILTO:soh@riversideparknyc.org
END:VEVENT
END:VCALENDAR